Package: oligoClasses Version: 1.71.0 Command: /home/biocbuild/bbs-3.22-bioc/R/bin/R CMD check --install=check:oligoClasses.install-out.txt --library=/home/biocbuild/bbs-3.22-bioc/R/site-library --timings oligoClasses_1.71.0.tar.gz StartedAt: 2025-10-10 02:30:48 -0400 (Fri, 10 Oct 2025) EndedAt: 2025-10-10 02:34:28 -0400 (Fri, 10 Oct 2025) EllapsedTime: 219.2 seconds RetCode: 0 Status: WARNINGS CheckDir: oligoClasses.Rcheck Warnings: 3