Package: oligoClasses Version: 1.73.0 Command: /home/biocbuild/bbs-3.23-bioc/R/bin/R CMD check --install=check:oligoClasses.install-out.txt --library=/home/biocbuild/bbs-3.23-bioc/R/site-library --timings oligoClasses_1.73.0.tar.gz StartedAt: 2025-11-22 02:10:13 -0500 (Sat, 22 Nov 2025) EndedAt: 2025-11-22 02:13:54 -0500 (Sat, 22 Nov 2025) EllapsedTime: 221.3 seconds RetCode: 0 Status: WARNINGS CheckDir: oligoClasses.Rcheck Warnings: 3