Package: oligoClasses Version: 1.73.0 Command: /home/biocbuild/bbs-3.23-bioc/R/bin/R CMD build --keep-empty-dirs --no-resave-data oligoClasses StartedAt: 2025-11-20 19:03:26 -0500 (Thu, 20 Nov 2025) EndedAt: 2025-11-20 19:03:28 -0500 (Thu, 20 Nov 2025) EllapsedTime: 2.0 seconds RetCode: 0 Status: OK PackageFile: oligoClasses_1.73.0.tar.gz PackageFileSize: 364.5 KiB