Package: oligo Version: 1.75.0 Command: /home/biocbuild/bbs-3.23-bioc/R/bin/R CMD INSTALL oligo StartedAt: 2025-11-03 15:20:00 -0500 (Mon, 03 Nov 2025) EndedAt: 2025-11-03 15:20:35 -0500 (Mon, 03 Nov 2025) EllapsedTime: 34.5 seconds RetCode: 0 Status: OK