Package: oligo Version: 1.75.0 Command: /home/biocbuild/bbs-3.23-bioc/R/bin/R CMD build --keep-empty-dirs --no-resave-data oligo StartedAt: 2025-11-02 18:58:32 -0500 (Sun, 02 Nov 2025) EndedAt: 2025-11-02 18:59:12 -0500 (Sun, 02 Nov 2025) EllapsedTime: 40.0 seconds RetCode: 0 Status: OK PackageFile: oligo_1.75.0.tar.gz PackageFileSize: 27.09 MiB