Package: odseq Version: 1.37.0 Command: /Library/Frameworks/R.framework/Resources/bin/R CMD INSTALL odseq StartedAt: 2025-10-24 15:45:06 -0400 (Fri, 24 Oct 2025) EndedAt: 2025-10-24 15:45:28 -0400 (Fri, 24 Oct 2025) EllapsedTime: 21.7 seconds RetCode: 0 Status: OK