Package: odseq Version: 1.37.0 Command: /Library/Frameworks/R.framework/Resources/bin/R CMD build --keep-empty-dirs --no-resave-data odseq StartedAt: 2025-10-24 18:05:20 -0400 (Fri, 24 Oct 2025) EndedAt: 2025-10-24 18:06:00 -0400 (Fri, 24 Oct 2025) EllapsedTime: 40.0 seconds RetCode: 0 Status: OK PackageFile: odseq_1.37.0.tar.gz PackageFileSize: 229.5 KiB