Package: odseq Version: 1.37.0 Command: rm -rf odseq.buildbin-libdir && mkdir odseq.buildbin-libdir && /Users/biocbuild/BBS/utils/build-universal.sh odseq_1.37.0.tar.gz /Library/Frameworks/R.framework/Resources/bin/R odseq.buildbin-libdir StartedAt: 2025-10-25 01:53:46 -0400 (Sat, 25 Oct 2025) EndedAt: 2025-10-25 01:54:11 -0400 (Sat, 25 Oct 2025) EllapsedTime: 24.3 seconds RetCode: 0 Status: OK PackageFile: odseq_1.37.0.tgz PackageFileSize: 247.5 KiB