Package: odseq Version: 1.37.0 Command: /Library/Frameworks/R.framework/Resources/bin/R CMD INSTALL odseq StartedAt: 2025-10-01 15:11:27 -0400 (Wed, 01 Oct 2025) EndedAt: 2025-10-01 15:11:34 -0400 (Wed, 01 Oct 2025) EllapsedTime: 6.5 seconds RetCode: 0 Status: OK