Package: odseq Version: 1.37.0 Command: rm -rf odseq.buildbin-libdir && mkdir odseq.buildbin-libdir && /Users/biocbuild/BBS/utils/build-universal.sh odseq_1.37.0.tar.gz /Library/Frameworks/R.framework/Resources/bin/R odseq.buildbin-libdir StartedAt: 2025-10-01 22:56:35 -0400 (Wed, 01 Oct 2025) EndedAt: 2025-10-01 22:56:42 -0400 (Wed, 01 Oct 2025) EllapsedTime: 7.2 seconds RetCode: 0 Status: OK PackageFile: odseq_1.37.0.tgz PackageFileSize: 248 KiB