Package: odseq Version: 1.39.0 Maintainer: José Jiménez MaintainerEmail: jose at jimenezluna.com git_url: https://git.bioconductor.org/packages/odseq git_branch: devel git_last_commit: 0ecb197 git_last_commit_date: 2025-10-29 10:31:29 -0400 (Wed, 29 Oct 2025)