Package: octad Version: 1.11.1 Command: /home/biocbuild/bbs-3.22-bioc/R/bin/R CMD check --install=check:octad.install-out.txt --library=/home/biocbuild/bbs-3.22-bioc/R/site-library --timings octad_1.11.1.tar.gz StartedAt: 2025-10-24 02:09:51 -0400 (Fri, 24 Oct 2025) EndedAt: 2025-10-24 02:23:15 -0400 (Fri, 24 Oct 2025) EllapsedTime: 804.0 seconds RetCode: 0 Status: OK CheckDir: octad.Rcheck Warnings: 0