Package: octad Version: 1.13.0 Command: /home/biocbuild/bbs-3.23-bioc/R/bin/R CMD INSTALL octad StartedAt: 2025-11-20 15:55:50 -0500 (Thu, 20 Nov 2025) EndedAt: 2025-11-20 15:56:47 -0500 (Thu, 20 Nov 2025) EllapsedTime: 57.7 seconds RetCode: 0 Status: OK