Package: octad Version: 1.11.1 Command: rm -rf octad.buildbin-libdir && mkdir octad.buildbin-libdir && /Users/biocbuild/BBS/utils/build-universal.sh octad_1.11.1.tar.gz /Library/Frameworks/R.framework/Resources/bin/R octad.buildbin-libdir StartedAt: 2025-09-30 01:56:54 -0400 (Tue, 30 Sep 2025) EndedAt: 2025-09-30 01:58:16 -0400 (Tue, 30 Sep 2025) EllapsedTime: 81.3 seconds RetCode: 0 Status: OK PackageFile: octad_1.11.1.tgz PackageFileSize: 1.386 MiB