Package: occugene Version: 1.71.0 Command: /home/biocbuild/bbs-3.23-bioc/R/bin/R CMD INSTALL occugene StartedAt: 2025-11-20 15:01:29 -0500 (Thu, 20 Nov 2025) EndedAt: 2025-11-20 15:01:31 -0500 (Thu, 20 Nov 2025) EllapsedTime: 2.2 seconds RetCode: 0 Status: OK