Package: occugene Version: 1.71.0 Command: /home/biocbuild/bbs-3.23-bioc/R/bin/R CMD build --keep-empty-dirs --no-resave-data occugene StartedAt: 2025-11-20 19:02:59 -0500 (Thu, 20 Nov 2025) EndedAt: 2025-11-20 19:03:04 -0500 (Thu, 20 Nov 2025) EllapsedTime: 5.0 seconds RetCode: 0 Status: OK PackageFile: occugene_1.71.0.tar.gz PackageFileSize: 194.7 KiB