Package: occugene Version: 1.71.0 Command: /Library/Frameworks/R.framework/Resources/bin/R CMD INSTALL occugene StartedAt: 2025-11-20 15:10:05 -0500 (Thu, 20 Nov 2025) EndedAt: 2025-11-20 15:10:19 -0500 (Thu, 20 Nov 2025) EllapsedTime: 14.2 seconds RetCode: 0 Status: OK