Package: occugene Version: 1.71.0 Command: rm -rf occugene.buildbin-libdir && mkdir occugene.buildbin-libdir && /Users/biocbuild/BBS/utils/build-universal.sh occugene_1.71.0.tar.gz /Library/Frameworks/R.framework/Resources/bin/R occugene.buildbin-libdir StartedAt: 2025-11-21 01:47:06 -0500 (Fri, 21 Nov 2025) EndedAt: 2025-11-21 01:47:13 -0500 (Fri, 21 Nov 2025) EllapsedTime: 6.9 seconds RetCode: 0 Status: OK PackageFile: occugene_1.71.0.tgz PackageFileSize: 252.7 KiB