Package: occugene Version: 1.69.0 Command: /Library/Frameworks/R.framework/Resources/bin/R CMD INSTALL occugene StartedAt: 2025-10-20 15:01:09 -0400 (Mon, 20 Oct 2025) EndedAt: 2025-10-20 15:01:10 -0400 (Mon, 20 Oct 2025) EllapsedTime: 1.3 seconds RetCode: 0 Status: OK