Package: occugene Version: 1.69.0 Command: /Library/Frameworks/R.framework/Resources/bin/R CMD build --keep-empty-dirs --no-resave-data occugene StartedAt: 2025-10-19 17:12:02 -0400 (Sun, 19 Oct 2025) EndedAt: 2025-10-19 17:12:05 -0400 (Sun, 19 Oct 2025) EllapsedTime: 3.0 seconds RetCode: 0 Status: OK PackageFile: occugene_1.69.0.tar.gz PackageFileSize: 195 KiB