Package: nullranges Version: 1.15.1 Command: /home/biocbuild/R/R/bin/R CMD build --keep-empty-dirs --no-resave-data nullranges StartedAt: 2025-09-30 01:57:04 -0000 (Tue, 30 Sep 2025) EndedAt: 2025-09-30 02:00:48 -0000 (Tue, 30 Sep 2025) EllapsedTime: 224.1 seconds RetCode: 0 Status: OK PackageFile: nullranges_1.15.1.tar.gz PackageFileSize: 4.437 MiB