Package: nullranges Version: 1.17.0 Command: /home/biocbuild/bbs-3.23-bioc/R/bin/R CMD INSTALL nullranges StartedAt: 2025-11-06 15:33:03 -0500 (Thu, 06 Nov 2025) EndedAt: 2025-11-06 15:33:40 -0500 (Thu, 06 Nov 2025) EllapsedTime: 37.5 seconds RetCode: 0 Status: OK