Package: nullranges Version: 1.17.0 Command: /home/biocbuild/bbs-3.23-bioc/R/bin/R CMD check --install=check:nullranges.install-out.txt --library=/home/biocbuild/bbs-3.23-bioc/R/site-library --timings nullranges_1.17.0.tar.gz StartedAt: 2025-11-07 01:54:31 -0500 (Fri, 07 Nov 2025) EndedAt: 2025-11-07 02:02:16 -0500 (Fri, 07 Nov 2025) EllapsedTime: 464.6 seconds RetCode: 0 Status: OK CheckDir: nullranges.Rcheck Warnings: 0