Package: nullranges Version: 1.17.0 Command: /home/biocbuild/bbs-3.23-bioc/R/bin/R CMD build --keep-empty-dirs --no-resave-data nullranges StartedAt: 2025-11-06 18:57:25 -0500 (Thu, 06 Nov 2025) EndedAt: 2025-11-06 18:59:44 -0500 (Thu, 06 Nov 2025) EllapsedTime: 139.2 seconds RetCode: 0 Status: OK PackageFile: nullranges_1.17.0.tar.gz PackageFileSize: 4.784 MiB