Package: nucleoSim Version: 1.37.0 Command: /home/biocbuild/R/R/bin/R CMD INSTALL nucleoSim StartedAt: 2025-10-23 20:33:30 -0000 (Thu, 23 Oct 2025) EndedAt: 2025-10-23 20:33:39 -0000 (Thu, 23 Oct 2025) EllapsedTime: 8.5 seconds RetCode: 0 Status: OK