Package: nucleoSim Version: 1.37.0 Command: /home/biocbuild/bbs-3.22-bioc/R/bin/R CMD check --install=check:nucleoSim.install-out.txt --library=/home/biocbuild/bbs-3.22-bioc/R/site-library --timings nucleoSim_1.37.0.tar.gz StartedAt: 2025-10-17 03:47:33 -0400 (Fri, 17 Oct 2025) EndedAt: 2025-10-17 03:48:27 -0400 (Fri, 17 Oct 2025) EllapsedTime: 54.0 seconds RetCode: 0 Status: OK CheckDir: nucleoSim.Rcheck Warnings: 0