Package: nucleoSim Version: 1.39.0 Command: /home/biocbuild/bbs-3.23-bioc/R/bin/R CMD check --install=check:nucleoSim.install-out.txt --library=/home/biocbuild/bbs-3.23-bioc/R/site-library --timings nucleoSim_1.39.0.tar.gz StartedAt: 2025-11-22 02:08:17 -0500 (Sat, 22 Nov 2025) EndedAt: 2025-11-22 02:09:12 -0500 (Sat, 22 Nov 2025) EllapsedTime: 55.1 seconds RetCode: 0 Status: OK CheckDir: nucleoSim.Rcheck Warnings: 0