Package: nucleoSim Version: 1.39.0 Command: /home/biocbuild/bbs-3.23-bioc/R/bin/R CMD build --keep-empty-dirs --no-resave-data nucleoSim StartedAt: 2025-11-20 19:02:41 -0500 (Thu, 20 Nov 2025) EndedAt: 2025-11-20 19:02:53 -0500 (Thu, 20 Nov 2025) EllapsedTime: 12.0 seconds RetCode: 0 Status: OK PackageFile: nucleoSim_1.39.0.tar.gz PackageFileSize: 455.9 KiB