Package: nucleoSim Version: 1.37.0 Command: /Library/Frameworks/R.framework/Resources/bin/R CMD INSTALL nucleoSim StartedAt: 2025-09-29 15:45:02 -0400 (Mon, 29 Sep 2025) EndedAt: 2025-09-29 15:45:11 -0400 (Mon, 29 Sep 2025) EllapsedTime: 9.3 seconds RetCode: 0 Status: OK