Package: nucleoSim Version: 1.37.0 Command: rm -rf nucleoSim.buildbin-libdir && mkdir nucleoSim.buildbin-libdir && /Users/biocbuild/BBS/utils/build-universal.sh nucleoSim_1.37.0.tar.gz /Library/Frameworks/R.framework/Resources/bin/R nucleoSim.buildbin-libdir StartedAt: 2025-09-30 01:56:50 -0400 (Tue, 30 Sep 2025) EndedAt: 2025-09-30 01:57:01 -0400 (Tue, 30 Sep 2025) EllapsedTime: 11.7 seconds RetCode: 0 Status: OK PackageFile: nucleoSim_1.37.0.tgz PackageFileSize: 495.2 KiB