Package: nucleR Version: 2.41.1 Command: /home/biocbuild/R/R/bin/R CMD INSTALL nucleR StartedAt: 2025-10-13 21:39:04 -0000 (Mon, 13 Oct 2025) EndedAt: 2025-10-13 21:39:52 -0000 (Mon, 13 Oct 2025) EllapsedTime: 47.6 seconds RetCode: 0 Status: OK