############################################################################## ############################################################################## ### ### Running command: ### ### /home/biocbuild/R/R/bin/R CMD INSTALL nucleR ### ############################################################################## ############################################################################## * installing to library ‘/home/biocbuild/R/R-4.5.0/site-library’ * installing *source* package ‘nucleR’ ... ** this is package ‘nucleR’ version ‘2.41.1’ ** using staged installation ** R ** data ** inst ** byte-compile and prepare package for lazy loading Loading required package: usethis Welcome at Mon Oct 20 21:15:15 2025 Goodbye at Mon Oct 20 21:15:30 2025 ** help *** installing help indices ** building package indices Loading required package: usethis Welcome at Mon Oct 20 21:15:32 2025 Goodbye at Mon Oct 20 21:15:32 2025 ** installing vignettes ** testing if installed package can be loaded from temporary location Loading required package: usethis Welcome at Mon Oct 20 21:15:33 2025 Goodbye at Mon Oct 20 21:15:46 2025 ** testing if installed package can be loaded from final location Loading required package: usethis Welcome at Mon Oct 20 21:15:47 2025 Goodbye at Mon Oct 20 21:16:00 2025 ** testing if installed package keeps a record of temporary installation path * DONE (nucleR)