Package: nucleR Version: 2.41.1 Command: /home/biocbuild/bbs-3.22-bioc/R/bin/R CMD check --install=check:nucleR.install-out.txt --library=/home/biocbuild/bbs-3.22-bioc/R/site-library --timings nucleR_2.41.1.tar.gz StartedAt: 2025-10-24 02:08:33 -0400 (Fri, 24 Oct 2025) EndedAt: 2025-10-24 02:13:16 -0400 (Fri, 24 Oct 2025) EllapsedTime: 282.3 seconds RetCode: 0 Status: WARNINGS CheckDir: nucleR.Rcheck Warnings: 1