Package: nucleR Version: 2.43.0 Command: /home/biocbuild/bbs-3.23-bioc/R/bin/R CMD INSTALL nucleR StartedAt: 2025-11-05 15:58:44 -0500 (Wed, 05 Nov 2025) EndedAt: 2025-11-05 15:59:20 -0500 (Wed, 05 Nov 2025) EllapsedTime: 36.4 seconds RetCode: 0 Status: OK