Package: nucleR Version: 2.43.0 Command: /home/biocbuild/bbs-3.23-bioc/R/bin/R CMD build --keep-empty-dirs --no-resave-data nucleR StartedAt: 2025-11-04 18:57:15 -0500 (Tue, 04 Nov 2025) EndedAt: 2025-11-04 18:58:17 -0500 (Tue, 04 Nov 2025) EllapsedTime: 61.1 seconds RetCode: 0 Status: OK PackageFile: nucleR_2.43.0.tar.gz PackageFileSize: 1.8 MiB