############################################################################## ############################################################################## ### ### Running command: ### ### /Library/Frameworks/R.framework/Resources/bin/R CMD INSTALL nucleR ### ############################################################################## ############################################################################## * installing to library ‘/Library/Frameworks/R.framework/Versions/4.5-x86_64/Resources/library’ * installing *source* package ‘nucleR’ ... ** this is package ‘nucleR’ version ‘2.41.1’ ** using staged installation ** R ** data ** inst ** byte-compile and prepare package for lazy loading Loading required package: usethis Welcome at Fri Oct 24 15:50:44 2025 Goodbye at Fri Oct 24 15:51:00 2025 ** help *** installing help indices ** building package indices Loading required package: usethis Welcome at Fri Oct 24 15:51:02 2025 Goodbye at Fri Oct 24 15:51:02 2025 ** installing vignettes ** testing if installed package can be loaded from temporary location Loading required package: usethis Welcome at Fri Oct 24 15:51:03 2025 Goodbye at Fri Oct 24 15:51:16 2025 ** testing if installed package can be loaded from final location Loading required package: usethis Welcome at Fri Oct 24 15:51:17 2025 Goodbye at Fri Oct 24 15:51:30 2025 ** testing if installed package keeps a record of temporary installation path * DONE (nucleR)