Package: nucleR Version: 2.41.1 Maintainer: Alba Sala MaintainerEmail: alba.sala at irbbarcelona.org git_url: https://git.bioconductor.org/packages/nucleR git_branch: devel git_last_commit: 29c0c53 git_last_commit_date: 2025-07-22 13:46:37 -0400 (Tue, 22 Jul 2025)