Package: nuCpos Version: 1.27.0 Command: /home/biocbuild/bbs-3.22-bioc/R/bin/R CMD check --install=check:nuCpos.install-out.txt --library=/home/biocbuild/bbs-3.22-bioc/R/site-library --timings nuCpos_1.27.0.tar.gz StartedAt: 2025-10-13 02:26:54 -0400 (Mon, 13 Oct 2025) EndedAt: 2025-10-13 02:27:29 -0400 (Mon, 13 Oct 2025) EllapsedTime: 35.0 seconds RetCode: 0 Status: OK CheckDir: nuCpos.Rcheck Warnings: 0