Package: nuCpos Version: 1.29.0 Command: /home/biocbuild/bbs-3.23-bioc/R/bin/R CMD INSTALL nuCpos StartedAt: 2025-10-31 15:10:45 -0400 (Fri, 31 Oct 2025) EndedAt: 2025-10-31 15:11:01 -0400 (Fri, 31 Oct 2025) EllapsedTime: 15.5 seconds RetCode: 0 Status: OK