Package: npGSEA Version: 1.47.0 Command: /home/biocbuild/bbs-3.23-bioc/R/bin/R CMD build --keep-empty-dirs --no-resave-data npGSEA StartedAt: 2025-11-20 19:02:24 -0500 (Thu, 20 Nov 2025) EndedAt: 2025-11-20 19:02:54 -0500 (Thu, 20 Nov 2025) EllapsedTime: 30.0 seconds RetCode: 0 Status: OK PackageFile: npGSEA_1.47.0.tar.gz PackageFileSize: 385.4 KiB