Package: npGSEA Version: 1.45.0 Command: /Library/Frameworks/R.framework/Resources/bin/R CMD INSTALL npGSEA StartedAt: 2025-10-13 15:10:35 -0400 (Mon, 13 Oct 2025) EndedAt: 2025-10-13 15:10:41 -0400 (Mon, 13 Oct 2025) EllapsedTime: 6.2 seconds RetCode: 0 Status: OK