Package: npGSEA Version: 1.45.0 Command: rm -rf npGSEA.buildbin-libdir && mkdir npGSEA.buildbin-libdir && /Users/biocbuild/BBS/utils/build-universal.sh npGSEA_1.45.0.tar.gz /Library/Frameworks/R.framework/Resources/bin/R npGSEA.buildbin-libdir StartedAt: 2025-10-13 22:51:57 -0400 (Mon, 13 Oct 2025) EndedAt: 2025-10-13 22:52:05 -0400 (Mon, 13 Oct 2025) EllapsedTime: 7.2 seconds RetCode: 0 Status: OK PackageFile: npGSEA_1.45.0.tgz PackageFileSize: 702.8 KiB