Package: notameViz Version: 0.99.5 Command: /home/biocbuild/bbs-3.22-bioc/R/bin/R CMD INSTALL notameViz StartedAt: 2025-10-15 15:24:18 -0400 (Wed, 15 Oct 2025) EndedAt: 2025-10-15 15:24:43 -0400 (Wed, 15 Oct 2025) EllapsedTime: 25.2 seconds RetCode: 0 Status: OK