Package: notameViz Version: 0.99.5 Command: /home/biocbuild/bbs-3.22-bioc/R/bin/R CMD build --keep-empty-dirs --no-resave-data --md5 notameViz StartedAt: 2025-10-14 19:03:59 -0400 (Tue, 14 Oct 2025) EndedAt: 2025-10-14 19:04:42 -0400 (Tue, 14 Oct 2025) EllapsedTime: 43.0 seconds RetCode: 0 Status: OK PackageFile: notameViz_0.99.5.tar.gz PackageFileSize: 466.7 KiB