Package: notameViz Version: 1.1.0 Command: /home/biocbuild/bbs-3.23-bioc/R/bin/R CMD INSTALL notameViz StartedAt: 2025-11-23 15:25:13 -0500 (Sun, 23 Nov 2025) EndedAt: 2025-11-23 15:25:38 -0500 (Sun, 23 Nov 2025) EllapsedTime: 24.8 seconds RetCode: 0 Status: OK