Package: notameViz Version: 1.1.0 Command: /home/biocbuild/bbs-3.23-bioc/R/bin/R CMD build --keep-empty-dirs --no-resave-data notameViz StartedAt: 2025-11-23 19:02:42 -0500 (Sun, 23 Nov 2025) EndedAt: 2025-11-23 19:03:26 -0500 (Sun, 23 Nov 2025) EllapsedTime: 44.0 seconds RetCode: 0 Status: OK PackageFile: notameViz_1.1.0.tar.gz PackageFileSize: 464.9 KiB