Package: notameStats Version: 0.99.1 Command: /home/biocbuild/bbs-3.22-bioc/R/bin/R CMD INSTALL notameStats StartedAt: 2025-10-17 15:30:50 -0400 (Fri, 17 Oct 2025) EndedAt: 2025-10-17 15:31:13 -0400 (Fri, 17 Oct 2025) EllapsedTime: 23.4 seconds RetCode: 0 Status: OK