Package: notameStats Version: 1.1.0 Command: /home/biocbuild/bbs-3.23-bioc/R/bin/R CMD INSTALL notameStats StartedAt: 2025-11-07 15:33:14 -0500 (Fri, 07 Nov 2025) EndedAt: 2025-11-07 15:33:38 -0500 (Fri, 07 Nov 2025) EllapsedTime: 24.0 seconds RetCode: 0 Status: OK