Package: notameStats Version: 1.1.0 Command: /home/biocbuild/bbs-3.23-bioc/R/bin/R CMD build --keep-empty-dirs --no-resave-data notameStats StartedAt: 2025-11-07 18:57:42 -0500 (Fri, 07 Nov 2025) EndedAt: 2025-11-07 18:58:28 -0500 (Fri, 07 Nov 2025) EllapsedTime: 45.0 seconds RetCode: 0 Status: OK PackageFile: notameStats_1.1.0.tar.gz PackageFileSize: 255.4 KiB