Package: notameStats Version: 0.99.2 Command: /Library/Frameworks/R.framework/Resources/bin/R CMD INSTALL notameStats StartedAt: 2025-10-23 15:18:05 -0400 (Thu, 23 Oct 2025) EndedAt: 2025-10-23 15:18:15 -0400 (Thu, 23 Oct 2025) EllapsedTime: 10.2 seconds RetCode: 0 Status: OK